BEGIN:VCALENDAR
VERSION:2.0
PRODID:-//RIGHTHERE//CALENDARIZE IT V3.2//EN
BEGIN:VTIMEZONE
TZID:Europe/London
X-MICROSOFT-CDO-TZID:1
BEGIN:STANDARD
DTSTART:20251026T010000
TZOFFSETFROM:+0100
TZOFFSETTO:+0000
TZNAME:GMT
END:STANDARD
BEGIN:DAYLIGHT
DTSTART:20260329T010000
TZOFFSETFROM:+0000
TZOFFSETTO:+0100
TZNAME:BST
END:DAYLIGHT
BEGIN:STANDARD
DTSTART:20261025T010000
TZOFFSETFROM:+0100
TZOFFSETTO:+0000
TZNAME:GMT
END:STANDARD
END:VTIMEZONE
BEGIN:VEVENT
UID:1026-events@artofyoga.co.uk
DTSTART;TZID=Europe/London:20171230T100000
DTEND;TZID=Europe/London:20171230T120000
DTSTAMP;TZID=Europe/London:20170119T144813
SUMMARY:Dalston Studio – Weekend Workshops
EXDATE:20170114T130000Z
RDATE;TZID=Europe/London;VALUE=PERIOD:20170204T140000,20170513T110000,20170
 520T110000,20170624T110000,20170708T110000,20170729T110000,20170819T110000
 ,20170909T110000,20170930T110000,20171007T140000,20171118T110000,20171209T
 110000,20180113T110000,20180127T110000,20180303T150000,20180324T110000,201
 80421T110000,20180519T110000,20180616T110000,20180929T090000,20181103T1000
 00,20181124T100000,20190112T150000,20190209T150000,20190309T100000,2019041
 3T100000,20190504T100000,20190518T100000/20190518T120000,20190810T100000/2
 0190810T120000,20190921T100000/20190921T120000,20191005T100000/20191005T12
 0000,20191026T100000/20191026T120000,20191109T100000/20191109T120000,20191
 214T100000/20191214T120000,20200118T100000/20200118T120000,20200229T150000
 /20200229T170000,20200425T100000/20200425T120000
URL:http://artofyoga.co.uk/events/dalston-studio-weekend-workshops/
ORGANIZER;CN=Lorraine:MAILTO:lrnmcn@gmail.com
LOCATION:Dalston Studio
END:VEVENT
END:VCALENDAR