BEGIN:VCALENDAR
VERSION:2.0
PRODID:-//RIGHTHERE//CALENDARIZE IT V3.2//EN
BEGIN:VTIMEZONE
TZID:Europe/London
X-MICROSOFT-CDO-TZID:1
BEGIN:STANDARD
DTSTART:20251026T010000
TZOFFSETFROM:+0100
TZOFFSETTO:+0000
TZNAME:GMT
END:STANDARD
BEGIN:DAYLIGHT
DTSTART:20260329T010000
TZOFFSETFROM:+0000
TZOFFSETTO:+0100
TZNAME:BST
END:DAYLIGHT
BEGIN:STANDARD
DTSTART:20261025T010000
TZOFFSETFROM:+0100
TZOFFSETTO:+0000
TZNAME:GMT
END:STANDARD
END:VTIMEZONE
BEGIN:VEVENT
UID:2891-events@artofyoga.co.uk
DTSTART;TZID=Europe/London:20220822T153000
DTEND;TZID=Europe/London:20220822T170000
DTSTAMP;TZID=Europe/London:20220819T102010
SUMMARY:On-line Yoga Therapy class Mondays 15:30-17:00
RRULE:FREQ=WEEKLY;INTERVAL=1
URL:http://artofyoga.co.uk/events/on-line-yoga-therapy-class-mondays/
ORGANIZER;CN=Lorraine:MAILTO:lrnmcn@gmail.com
LOCATION:Dalston Studio
END:VEVENT
END:VCALENDAR