BEGIN:VCALENDAR
VERSION:2.0
PRODID:-//RIGHTHERE//CALENDARIZE IT V3.2//EN
BEGIN:VTIMEZONE
TZID:Europe/London
X-MICROSOFT-CDO-TZID:1
BEGIN:STANDARD
DTSTART:20251026T010000
TZOFFSETFROM:+0100
TZOFFSETTO:+0000
TZNAME:GMT
END:STANDARD
BEGIN:DAYLIGHT
DTSTART:20260329T010000
TZOFFSETFROM:+0000
TZOFFSETTO:+0100
TZNAME:BST
END:DAYLIGHT
BEGIN:STANDARD
DTSTART:20261025T010000
TZOFFSETFROM:+0100
TZOFFSETTO:+0000
TZNAME:GMT
END:STANDARD
END:VTIMEZONE
BEGIN:VEVENT
UID:2956-events@artofyoga.co.uk
DTSTART;VALUE=DATE:20250418
DTEND;VALUE=DATE:20250422
DTSTAMP;TZID=Europe/London:20231223T225521
SUMMARY:Easter Yoga retreat in Sevenoaks\, Kent
URL:http://artofyoga.co.uk/events/easter-yoga-retreat-in-sevenoaks-kent/
ORGANIZER;CN=Lorraine:MAILTO:lrnmcn@gmail.com
LOCATION:Kent - Sevenoaks
END:VEVENT
END:VCALENDAR